BEGIN:VCALENDAR
VERSION:2.0
PRODID:-//nile - ECPv5.10.0//NONSGML v1.0//EN
CALSCALE:GREGORIAN
METHOD:PUBLISH
X-WR-CALNAME:nile
X-ORIGINAL-URL:https://www.nile-consulting.eu
X-WR-CALDESC:évènements pour nile
BEGIN:VTIMEZONE
TZID:Europe/Paris
BEGIN:DAYLIGHT
TZOFFSETFROM:+0100
TZOFFSETTO:+0200
TZNAME:CEST
DTSTART:20230326T010000
END:DAYLIGHT
BEGIN:STANDARD
TZOFFSETFROM:+0200
TZOFFSETTO:+0100
TZNAME:CET
DTSTART:20231029T010000
END:STANDARD
END:VTIMEZONE
BEGIN:VEVENT
DTSTART;TZID=Europe/Paris:20230706T140000
DTEND;TZID=Europe/Paris:20230706T180000
DTSTAMP:20260420T080646
CREATED:20230530T161749Z
LAST-MODIFIED:20230530T161749Z
UID:19126-1688652000-1688666400@www.nile-consulting.eu
SUMMARY:Colloque TRANSFORM
DESCRIPTION:Le colloque « L’Union européenne\, espace de recherche et d’innovation pour les thérapies géniques et cellulaires » se déroulera le 6 juillet 2023 à partir de 14h00 à l’Académie nationale de médecine. \nInscription\n \n 
URL:https://www.nile-consulting.eu/event/colloque-transform/
LOCATION:Académie Nationale de Médecine\, 16 Rue Bonaparte\, Paris\, 75006\, France
CATEGORIES:Colloque
ORGANIZER;CN="nile":MAILTO:communication@nile-consulting.eu
END:VEVENT
END:VCALENDAR