BEGIN:VCALENDAR
VERSION:2.0
PRODID:-//nile - ECPv5.10.0//NONSGML v1.0//EN
CALSCALE:GREGORIAN
METHOD:PUBLISH
X-WR-CALNAME:nile
X-ORIGINAL-URL:https://www.nile-consulting.eu
X-WR-CALDESC:évènements pour nile
BEGIN:VTIMEZONE
TZID:Europe/Paris
BEGIN:DAYLIGHT
TZOFFSETFROM:+0100
TZOFFSETTO:+0200
TZNAME:CEST
DTSTART:20200329T010000
END:DAYLIGHT
BEGIN:STANDARD
TZOFFSETFROM:+0200
TZOFFSETTO:+0100
TZNAME:CET
DTSTART:20201025T010000
END:STANDARD
END:VTIMEZONE
BEGIN:VEVENT
DTSTART;TZID=Europe/Paris:20200708T083000
DTEND;TZID=Europe/Paris:20200708T100000
DTSTAMP:20260423T231134
CREATED:20200630T081050Z
LAST-MODIFIED:20201027T105700Z
UID:14362-1594197000-1594202400@www.nile-consulting.eu
SUMMARY:Café nile avec Rodolphe Bourret\, directeur général du CH de Valenciennes
DESCRIPTION:
URL:https://www.nile-consulting.eu/event/cafe-nile-avec-rodolphe-bourret-directeur-general-du-ch-de-valenciennes/
CATEGORIES:Cafés nile,Evénements passés
ORGANIZER;CN="nile":MAILTO:communication@nile-consulting.eu
END:VEVENT
END:VCALENDAR